BEGIN:VCALENDAR
VERSION:2.0
PRODID:-//Secteur Nicolet (04-C) - ECPv5.14.0.4//NONSGML v1.0//EN
CALSCALE:GREGORIAN
METHOD:PUBLISH
X-WR-CALNAME:Secteur Nicolet (04-C)
X-ORIGINAL-URL:https://nicolet.areq.lacsq.org
X-WR-CALDESC:évènements pour Secteur Nicolet (04-C)
BEGIN:VTIMEZONE
TZID:America/New_York
BEGIN:DAYLIGHT
TZOFFSETFROM:-0500
TZOFFSETTO:-0400
TZNAME:EDT
DTSTART:20260308T070000
END:DAYLIGHT
BEGIN:STANDARD
TZOFFSETFROM:-0400
TZOFFSETTO:-0500
TZNAME:EST
DTSTART:20261101T060000
END:STANDARD
END:VTIMEZONE
BEGIN:VEVENT
DTSTART;TZID=America/New_York:20260421T090000
DTEND;TZID=America/New_York:20260421T153000
DTSTAMP:20260419T103219
CREATED:20250913T173904Z
LAST-MODIFIED:20260129T185423Z
UID:3301-1776762000-1776785400@nicolet.areq.lacsq.org
SUMMARY:Journée de la Terre
DESCRIPTION:Thème: L’EAU\, source de vie \nUne journée remplie d’inspiration\, de découvertes et d’actions concrètes pour mieux comprendre et protéger notre plus précieuse ressource : l’eau. \n  \n\nHeure d’arrivée et accueil : 9 h 00\n Conférence d’ouverture par madame Gabrielle Roy-Lavallée : 9 h 45\n Dîner sur place: 11 h 45 (boîte à lunch au choix)\n Départ en autobus pour les ateliers : 13 h 00 retour à 15h00\n\n\n  \nDepuis 1997\, Conférence sur les enjeux liés à l’eau\n  \n  \n\nActivité d’interprétation guidée dans la nature à Pointe-à-Caron.\nAtelier et visite des Serres Carbonneau\, où le propriétaire nous parlera d’efficacité énergétique et il nous présentera son géranium qu’il a créé\, devenu maintenant l’emblème de Louiseville.\n\n💲 Tarif pour la journée : Membres : 20 $ • Non-membres : 50 $ \n✨ Venez échanger et choisir les bons gestes pour la protection de notre eau! \nInscription obligatoire avant le 10 avril 2026.\nPour information ou inscription :\nJosée Roy josee-roy@live.ca et Marc Dion  marc.dion@sogetel.net \nEn vous inscrivant\, veuillez nous faire part de votre choix d’activité en après-midi. \nJosée Roy\, responsable au comité de l’environnement
URL:https://nicolet.areq.lacsq.org/event/journee-de-la-terre/
LOCATION:La Porte de la Mauricie\, 4 Rte Sainte-Anne Ouest\, Yamachiche\, Québec\, G0X 3L0\, Canada
END:VEVENT
BEGIN:VEVENT
DTSTART;TZID=America/New_York:20260506T080000
DTEND;TZID=America/New_York:20260506T170000
DTSTAMP:20260419T103219
CREATED:20250913T173941Z
LAST-MODIFIED:20260129T191305Z
UID:3303-1778054400-1778086800@nicolet.areq.lacsq.org
SUMMARY:AGR à La Tuque (autobus)
DESCRIPTION:Les membres de l’AREQ de la région Mauricie – Centre-du-Québec (04) sont convoqués.es à\nl’Assemblée générale régionale annuelle dans le secteur de La Tuque\, au Club de golf et curling. \nSelon les inscriptions reçues\, deux autocars conduiront les participants.es jusqu’à La Tuque. Pour le\nsecteur Nicolet ( 04 C )\, le départ se fera à ( lieu et heure à déterminer ). Le coût des autobus est\ndéfrayé par le régional. \nCe sera l’occasion de faire le bilan de notre année et de discuter de nos objectifs pour le congrès de\njuin. De plus\, tous les postes du Conseil régional seront en élection : présidence\, première et\ndeuxième vice-présidences\, trésorerie\, secrétariat\, conseiller ou conseillère. Selon les Statuts et\nrèglements de l’AREQ\, tous les membres réguliers de la région sont éligibles à la présidence régionale\,\ntandis que seules les personnes présidentes d’un secteur peuvent être candidates aux autres postes\ndu Conseil. \nLes membres de La Fondation Laure-Gaudreault sont aussi convoqués à leur Assemblée générale en\nfin d’avant-midi\, soit de 11 h 15 à 11 h 45 le même jour. Cette fondation est la nôtre! \nPar la suite\, nous pourrons fraterniser ensemble autour d’un bon repas\, avant de procéder à notre\nassemblée générale régionale (AGR). \nNous vous attendons en grand nombre.
URL:https://nicolet.areq.lacsq.org/event/agr-a-la-tuque-autobus/
LOCATION:Club De Golf & Curling La Tuque Inc\, 35 Rue Beaumont\, La Tuque\, Québec\, G9X 3G8\, Canada
END:VEVENT
BEGIN:VEVENT
DTSTART;TZID=America/New_York:20260526T193000
DTEND;TZID=America/New_York:20260526T220000
DTSTAMP:20260419T103219
CREATED:20250913T173405Z
LAST-MODIFIED:20260129T193703Z
UID:3292-1779823800-1779832800@nicolet.areq.lacsq.org
SUMMARY:Sortie culturelle
DESCRIPTION:Pièce de théâtre Quichotte\n\n 
URL:https://nicolet.areq.lacsq.org/event/sortie-culturelle-a-quebec/
LOCATION:Théâtre du Nouveau Monde\, 84 Saint Catherine St\, Montréal\, Québ\, H2X 1Z6\, Canada
END:VEVENT
BEGIN:VEVENT
DTSTART;TZID=America/New_York:20260605T080000
DTEND;TZID=America/New_York:20260611T170000
DTSTAMP:20260419T103219
CREATED:20250913T174029Z
LAST-MODIFIED:20250913T174029Z
UID:3305-1780646400-1781197200@nicolet.areq.lacsq.org
SUMMARY:50e Congrès de l’AREQ à Lévis
DESCRIPTION:
URL:https://nicolet.areq.lacsq.org/event/50e-congres-de-lareq-a-levis/
LOCATION:Québec
END:VEVENT
BEGIN:VEVENT
DTSTART;TZID=America/New_York:20260617T080000
DTEND;TZID=America/New_York:20260617T170000
DTSTAMP:20260419T103219
CREATED:20250913T173732Z
LAST-MODIFIED:20250913T173732Z
UID:3296-1781683200-1781715600@nicolet.areq.lacsq.org
SUMMARY:Brunch de fin d’année
DESCRIPTION:
URL:https://nicolet.areq.lacsq.org/event/brunch-de-fin-dannee/
LOCATION:Moulin Michel\, 675\, boul. Bécancour\, Gentilly\, ville de Bécancour\, Québec\, G9H 3S9\, Canada
END:VEVENT
BEGIN:VEVENT
DTSTART;TZID=America/New_York:20260617T100000
DTEND;TZID=America/New_York:20260617T170000
DTSTAMP:20260419T103219
CREATED:20260129T194138Z
LAST-MODIFIED:20260129T194138Z
UID:3393-1781690400-1781715600@nicolet.areq.lacsq.org
SUMMARY:Brunch de fin d’année
DESCRIPTION:Brunch et nouvelles de la FLG avec le président national Pierre Lefèbvre \n 
URL:https://nicolet.areq.lacsq.org/event/brunch-de-fin-dannee-2/
LOCATION:Moulin Michel\, 675\, boul. Bécancour\, Gentilly\, ville de Bécancour\, Québec\, G9H 3S9\, Canada
END:VEVENT
END:VCALENDAR