BEGIN:VCALENDAR
VERSION:2.0
PRODID:-//Secteur Nicolet (04-C) - ECPv5.14.0.4//NONSGML v1.0//EN
CALSCALE:GREGORIAN
METHOD:PUBLISH
X-WR-CALNAME:Secteur Nicolet (04-C)
X-ORIGINAL-URL:https://nicolet.areq.lacsq.org
X-WR-CALDESC:évènements pour Secteur Nicolet (04-C)
BEGIN:VTIMEZONE
TZID:America/New_York
BEGIN:DAYLIGHT
TZOFFSETFROM:-0500
TZOFFSETTO:-0400
TZNAME:EDT
DTSTART:20260308T070000
END:DAYLIGHT
BEGIN:STANDARD
TZOFFSETFROM:-0400
TZOFFSETTO:-0500
TZNAME:EST
DTSTART:20261101T060000
END:STANDARD
END:VTIMEZONE
BEGIN:VEVENT
DTSTART;TZID=America/New_York:20260311T100000
DTEND;TZID=America/New_York:20260311T153000
DTSTAMP:20260419T152703
CREATED:20250913T172806Z
LAST-MODIFIED:20260225T154830Z
UID:3286-1773223200-1773243000@nicolet.areq.lacsq.org
SUMMARY:Vers une privatisation de notre système de santé ?
DESCRIPTION:Le privé en santé : mieux comprendre la réalité\nLise Goulet\, conseillère à l’action professionnelle en santé et services sociaux à la CSQ \n\n  \n\n10h accueil et café\n10h30 Quelques nouvelles\n10h45 Entretien de Lise Goulet avec un power-point et échange avec elle\n12h Dîner avec un excellent buffet froid\n\nMENU \n\n\n\nEntrée : potage au courge\, navet et poire\nSalades césar\, macaroni et chou\, crudités\, assiettes de viande froide et de fromage\nSandwich ‘roulé’ et ‘pain fourré’ au jambon\, thon et poulet\nDessert : surprise du traiteur\nThé ou café\n\n\n\n  \nIl faut nous confirmer VRAIMENT avant mardi\, le 4 mars 16h. \nAu plaisir de vous voir nombreux à cette rencontre! \nMarc Dion\, votre président heureux au nom de votre conseil sectoriel
URL:https://nicolet.areq.lacsq.org/event/vers-une-privatisation-de-notre-systeme-de-sante/
LOCATION:Salle de la FADOQ de St-Léonard-d’Aston\, 533 Rue De La Station\, Saint-Léonard-d'Aston\, Québec\, J0C 1M0\, Canada
END:VEVENT
END:VCALENDAR