BEGIN:VCALENDAR
VERSION:2.0
PRODID:-//Secteur Nicolet (04-C) - ECPv5.14.0.4//NONSGML v1.0//EN
CALSCALE:GREGORIAN
METHOD:PUBLISH
X-WR-CALNAME:Secteur Nicolet (04-C)
X-ORIGINAL-URL:https://nicolet.areq.lacsq.org
X-WR-CALDESC:évènements pour Secteur Nicolet (04-C)
BEGIN:VTIMEZONE
TZID:America/New_York
BEGIN:DAYLIGHT
TZOFFSETFROM:-0500
TZOFFSETTO:-0400
TZNAME:EDT
DTSTART:20190310T070000
END:DAYLIGHT
BEGIN:STANDARD
TZOFFSETFROM:-0400
TZOFFSETTO:-0500
TZNAME:EST
DTSTART:20191103T060000
END:STANDARD
END:VTIMEZONE
BEGIN:VEVENT
DTSTART;VALUE=DATE:20190926
DTEND;VALUE=DATE:20190927
DTSTAMP:20260422T085618
CREATED:20190908T124701Z
LAST-MODIFIED:20190908T124739Z
UID:2035-1569456000-1569542399@nicolet.areq.lacsq.org
SUMMARY:Rencontre des responsables de comités (1)
DESCRIPTION:
URL:https://nicolet.areq.lacsq.org/event/rencontre-des-responsables-de-comites/
LOCATION:La Madone\, 10 Rue Denis Caron\, Trois-Rivières\, Québec\, G8T 3W9\, Canada
END:VEVENT
END:VCALENDAR