BEGIN:VCALENDAR
VERSION:2.0
PRODID:-//Secteur Nicolet (04-C) - ECPv5.14.0.4//NONSGML v1.0//EN
CALSCALE:GREGORIAN
METHOD:PUBLISH
X-WR-CALNAME:Secteur Nicolet (04-C)
X-ORIGINAL-URL:https://nicolet.areq.lacsq.org
X-WR-CALDESC:évènements pour Secteur Nicolet (04-C)
BEGIN:VTIMEZONE
TZID:America/New_York
BEGIN:DAYLIGHT
TZOFFSETFROM:-0500
TZOFFSETTO:-0400
TZNAME:EDT
DTSTART:20180311T070000
END:DAYLIGHT
BEGIN:STANDARD
TZOFFSETFROM:-0400
TZOFFSETTO:-0500
TZNAME:EST
DTSTART:20181104T060000
END:STANDARD
END:VTIMEZONE
BEGIN:VEVENT
DTSTART;TZID=America/New_York:20180612T110000
DTEND;TZID=America/New_York:20180612T150000
DTSTAMP:20260422T104326
CREATED:20170913T142612Z
LAST-MODIFIED:20180516T144615Z
UID:1280-1528801200-1528815600@nicolet.areq.lacsq.org
SUMMARY:Méchoui de fin d'année
DESCRIPTION:MOULIN MICHEL DE GENTILLY\n\nUNE CONSOMMATION GRATUITE \n20 $ membres et 25 $ non-membres \n  \nHORAIRE DE LA RENCONTRE \n\n11 H 00                Arrivée \n11 H 45                Mot de bienvenue\n12 H 00               Méchoui\n\n  \nMENU \n\nCrudités et trempettes\nSoupe\nPetits pains et beurre\nSalade césar et salade de macaronis\nMéchoui porc et bœuf avec sauce au poivre\nFilet de saumon avec sauce citronnée\nRiz et pomme de terre au four\nPouding chômeur à l’érable\nGâteau et café
URL:https://nicolet.areq.lacsq.org/event/rencontre-de-fin-dannee/
LOCATION:Moulin Michel\, 675\, boul. Bécancour\, Gentilly\, ville de Bécancour\, Québec\, G9H 3S9\, Canada
END:VEVENT
END:VCALENDAR