BEGIN:VCALENDAR
VERSION:2.0
PRODID:-//Secteur Nicolet (04-C) - ECPv5.14.0.4//NONSGML v1.0//EN
CALSCALE:GREGORIAN
METHOD:PUBLISH
X-WR-CALNAME:Secteur Nicolet (04-C)
X-ORIGINAL-URL:https://nicolet.areq.lacsq.org
X-WR-CALDESC:évènements pour Secteur Nicolet (04-C)
BEGIN:VTIMEZONE
TZID:America/New_York
BEGIN:DAYLIGHT
TZOFFSETFROM:-0500
TZOFFSETTO:-0400
TZNAME:EDT
DTSTART:20180311T070000
END:DAYLIGHT
BEGIN:STANDARD
TZOFFSETFROM:-0400
TZOFFSETTO:-0500
TZNAME:EST
DTSTART:20181104T060000
END:STANDARD
END:VTIMEZONE
BEGIN:VEVENT
DTSTART;TZID=America/New_York:20181113T100000
DTEND;TZID=America/New_York:20181113T150000
DTSTAMP:20260422T104548
CREATED:20180908T190230Z
LAST-MODIFIED:20181101T181040Z
UID:1517-1542103200-1542121200@nicolet.areq.lacsq.org
SUMMARY:Recueillement pour nos collègues décédés
DESCRIPTION:Le recueillement est suivi d’un dîner et d’une conférence de Jacques Sénécal\, philosophe. \n\n10h00    Accueil vers 10h\n10h45    Petite cérémonie pour nous souvenir de nos défunts\n11h00    Entretien de Jacques Sénécal\, philosophe : thème : « Prendre le temps et la liberté qu’on a »\n12h00    Dîner \n\n MENU : \n\nPotage butternut citrouille pomme\nSuprême de poulet farci au féta asperges et épinards et salade du chef\nET\nFilet de saumon servi avec riz\, sauce au vin blanc\, légumes et  salade césar\nDessert gâteau au sucre à la crème\nCafé\, thé\n\n(le tout servi dans de la vaisselle en porcelaine) \n 
URL:https://nicolet.areq.lacsq.org/event/recueillement-nos-collegues-decedes/
LOCATION:Théâtre Belcourt\, 23 A rue de l'Église\, Baie-du-Febvre\, Québec\, J0G 1A0\, Canada
END:VEVENT
END:VCALENDAR