BEGIN:VCALENDAR
VERSION:2.0
PRODID:-//Secteur Nicolet (04-C) - ECPv5.14.0.4//NONSGML v1.0//EN
CALSCALE:GREGORIAN
METHOD:PUBLISH
X-WR-CALNAME:Secteur Nicolet (04-C)
X-ORIGINAL-URL:https://nicolet.areq.lacsq.org
X-WR-CALDESC:évènements pour Secteur Nicolet (04-C)
BEGIN:VTIMEZONE
TZID:America/New_York
BEGIN:DAYLIGHT
TZOFFSETFROM:-0500
TZOFFSETTO:-0400
TZNAME:EDT
DTSTART:20170312T070000
END:DAYLIGHT
BEGIN:STANDARD
TZOFFSETFROM:-0400
TZOFFSETTO:-0500
TZNAME:EST
DTSTART:20171105T060000
END:STANDARD
END:VTIMEZONE
BEGIN:VEVENT
DTSTART;TZID=America/New_York:20171114T100000
DTEND;TZID=America/New_York:20171114T143000
DTSTAMP:20260419T223113
CREATED:20170913T141033Z
LAST-MODIFIED:20171024T195516Z
UID:1263-1510653600-1510669800@nicolet.areq.lacsq.org
SUMMARY:Recueillement pour les Collègues décédés et dîner
DESCRIPTION:(Réponse au plus tard le 5 novembre)\nCoût :\n\nMembres : 20$\nNon-membres : 25$\n\nHoraire :\n\n9 h 30 :  ACCUEIL ET CAFÉ\n10 h 15 : MOT DE BIENVENUE\n10 h 30 : LITURGIE DE LA PAROLE POUR NOS MEMBRES  DISPARUS (AU THÉÂTRE BELCOURT)\n10 h 45 : CONFÉRENCE DE M. JACQUES BRODEUR\n12 h 00 : DÎNER\n\nSujet de la conférence :\n \nJACQUES BRODEUR EST UN CONFÉRENCIER DE CALIBRE INTERNATIONAL AYANT ÉTÉ REÇU EN FRANCE DANS DE MULTIPLES  OCCASIONS. \nLE SUJET DONT IL AIME PARLER\, COMME SPÉCIALISTE\, EST LA RELATION ENTRE LES ÉCRANS (TÉLÉ\, ORDINATEURS\, TABLETTES\, TÉLÉPHONES) ET LEURS UTILISATEURS\, TANT CHEZ LES JEUNES QUE LES PERSONNES PLUS AGÉES. \nMenu de madame Claire\n\nCRÈME DE LÉGUMES\nSALADE DU CHEF\nLÉGUMES\nBOEUF BOURGUIGNON AUX CHAMPIGNONS SUR RIZ\nFILET DE SAUMON SUR RIZ\nGÂTEAU AUX CAROTTES\nPAIN\, BEURRE\, THÉ\, CAFÉ\, TISANE\n\n 
URL:https://nicolet.areq.lacsq.org/event/recueillement-collegues-decedes-diner/
LOCATION:Théâtre Belcourt\, 23 A rue de l'Église\, Baie-du-Febvre\, Québec\, J0G 1A0\, Canada
END:VEVENT
END:VCALENDAR