BEGIN:VCALENDAR
VERSION:2.0
PRODID:-//Secteur Nicolet (04-C) - ECPv5.14.0.4//NONSGML v1.0//EN
CALSCALE:GREGORIAN
METHOD:PUBLISH
X-WR-CALNAME:Secteur Nicolet (04-C)
X-ORIGINAL-URL:https://nicolet.areq.lacsq.org
X-WR-CALDESC:évènements pour Secteur Nicolet (04-C)
BEGIN:VTIMEZONE
TZID:America/New_York
BEGIN:DAYLIGHT
TZOFFSETFROM:-0500
TZOFFSETTO:-0400
TZNAME:EDT
DTSTART:20250309T070000
END:DAYLIGHT
BEGIN:STANDARD
TZOFFSETFROM:-0400
TZOFFSETTO:-0500
TZNAME:EST
DTSTART:20251102T060000
END:STANDARD
END:VTIMEZONE
BEGIN:VEVENT
DTSTART;TZID=America/New_York:20251030T093000
DTEND;TZID=America/New_York:20251030T150000
DTSTAMP:20260419T171659
CREATED:20250912T135108Z
LAST-MODIFIED:20250912T143251Z
UID:3243-1761816600-1761836400@nicolet.areq.lacsq.org
SUMMARY:L’AIDE MÉDICALE À MOURIR
DESCRIPTION:PROJET TOUJOURS EN ACTION (PTEA)\nUne loi évolutive pour la dignité en fin de vie\nConférence de M. Samuel Labrecque \n25 $ membre 40 $ non-membre \n\n  \nDans un contexte de débats sociaux et législatifs en constante évolution\, cette conférence vise à mieux comprendre l’encadrement de l’aide médicale à mourir (AMM) au Québec. En s’appuyant sur la Loi concernant les soins de fin de vie\, elle aborde de manière claire les différentes options de soins en fin de vie (soins palliatifs\, sédation palliative continue\, soins à domicile\, etc.)\, tout <en mettant en lumière les exigences pour avoir accès à l’AMM et les démarches à suivre. \nLa présentation explique également les grandes lignes du projet de loi 11\, adopté en juin 2023\, qui élargit l’accès à l’AMM – notamment aux personnes ayant une déficience physique grave ou atteintes de démence – et autorise les demandes anticipées. Elle précise aussi les obligations des professionnels de la santé\, les mécanismes de consentement\, et la place croissante des infirmières praticiennes spécialisées dans le processus. \nEnfin\, une section est consacrée aux directives médicales anticipées (DMA)\, un outil légal permettant à toute personne d’indiquer à l’avance les soins qu’elle accepte ou refuse de recevoir en fin de vie. \nSamuel Labrecque\nConseiller aux dossiers sociaux\, AREQ (CSQ) \n\nAccueil : 9 h 30\nConférence : 10 h 15\nQuestions : 11 h 30\nDîner : 12 h\n\nInscription: avant le 20 octobre 2025\, à l’adresse suivante: marc.dion@sogetel.net
URL:https://nicolet.areq.lacsq.org/event/projet-toujours-en-action-ptea/
LOCATION:salle paroissiale de Mont-Carmel\, 3991\, rue Mgr Béliveau\, Notre-Dame-du-Mont-Carmel\, Québec\, G0X 3J0\, Canada
END:VEVENT
END:VCALENDAR