BEGIN:VCALENDAR
VERSION:2.0
PRODID:-//Secteur Nicolet (04-C) - ECPv5.14.0.4//NONSGML v1.0//EN
CALSCALE:GREGORIAN
METHOD:PUBLISH
X-WR-CALNAME:Secteur Nicolet (04-C)
X-ORIGINAL-URL:https://nicolet.areq.lacsq.org
X-WR-CALDESC:évènements pour Secteur Nicolet (04-C)
BEGIN:VTIMEZONE
TZID:America/New_York
BEGIN:DAYLIGHT
TZOFFSETFROM:-0500
TZOFFSETTO:-0400
TZNAME:EDT
DTSTART:20250309T070000
END:DAYLIGHT
BEGIN:STANDARD
TZOFFSETFROM:-0400
TZOFFSETTO:-0500
TZNAME:EST
DTSTART:20251102T060000
END:STANDARD
END:VTIMEZONE
BEGIN:VEVENT
DTSTART;TZID=America/New_York:20251117T130000
DTEND;TZID=America/New_York:20251117T160000
DTSTAMP:20260419T153658
CREATED:20250912T141531Z
LAST-MODIFIED:20250912T141531Z
UID:3254-1763384400-1763395200@nicolet.areq.lacsq.org
SUMMARY:PRÉVENIR LES FRAUDES CHEZ LES AÎNÉS
DESCRIPTION:LE THÉÂTRE PARMINOU\nÀ Trois-Rivières \nCoût : 5 $ membres 20 $ non-membres \n  \n \n  \nQu’est-ce qui fait que les fraudeurs réussissent à piéger autant de personnes ? En étant témoin des histoires de Suzanne\, de François et d’Alain\, vous comprendrez que même si vous êtes conscients que les fraudes existent\, vous pouvez tomber dans le piège\, vous aussi. Ces histoires de fraude vous démontreront comment vous protéger\, et vous aideront à reconnaître les signaux d’alarme. Et il n’y a pas que les fraudes\, il y a aussi les abus! Vous serez également témoins de l’histoire de Jocelyne\, qui se fait abuser par son fils n’ayant aucun scrupule pour arriver à ses fins. \n  \nInscription: avant le 10 novembre 2025\, à l’adresse suivante: marc.dion@sogetel.net
URL:https://nicolet.areq.lacsq.org/event/prevenir-les-fraudes-chez-les-aines/
LOCATION:église St-Gabriel\, 102\, rue Frère-Séverin\, Trois-Rivières\, Québec\, G8T 3B7\, Canada
END:VEVENT
END:VCALENDAR