BEGIN:VCALENDAR
VERSION:2.0
PRODID:-//Secteur Nicolet (04-C) - ECPv5.14.0.4//NONSGML v1.0//EN
CALSCALE:GREGORIAN
METHOD:PUBLISH
X-WR-CALNAME:Secteur Nicolet (04-C)
X-ORIGINAL-URL:https://nicolet.areq.lacsq.org
X-WR-CALDESC:évènements pour Secteur Nicolet (04-C)
BEGIN:VTIMEZONE
TZID:America/New_York
BEGIN:DAYLIGHT
TZOFFSETFROM:-0500
TZOFFSETTO:-0400
TZNAME:EDT
DTSTART:20170312T070000
END:DAYLIGHT
BEGIN:STANDARD
TZOFFSETFROM:-0400
TZOFFSETTO:-0500
TZNAME:EST
DTSTART:20171105T060000
END:STANDARD
END:VTIMEZONE
BEGIN:VEVENT
DTSTART;VALUE=DATE:20170615
DTEND;VALUE=DATE:20170616
DTSTAMP:20260419T153036
CREATED:20160413T133523Z
LAST-MODIFIED:20170527T123433Z
UID:315-1497484800-1497571199@nicolet.areq.lacsq.org
SUMMARY:Méchoui
DESCRIPTION:25 $ pour les MEMBRES ET 30 $ pour les NON-MEMBRES \n(1 consommation gratuite) \nHoraire de la rencontre :\n\n11 h 00     Arrivée\n11 h 45     Mot de bienvenue\n12 h 00     Méchoui\n\nMENU\n\nSoupe aux légumes\nPorc  –  bœuf  –  saumon\nSauce aux poivres et sauce au citron et poivre\nRiz et pommes de terre au four\nSalade César\nSalade de pâte\nPouding chômeur à l’érable\nSalade de fruits\nCafé  et thé
URL:https://nicolet.areq.lacsq.org/event/mechoui-2017/
LOCATION:Moulin Michel\, 675\, boul. Bécancour\, Gentilly\, ville de Bécancour\, Québec\, G9H 3S9\, Canada
END:VEVENT
END:VCALENDAR