BEGIN:VCALENDAR
VERSION:2.0
PRODID:-//Secteur Nicolet (04-C) - ECPv5.14.0.4//NONSGML v1.0//EN
CALSCALE:GREGORIAN
METHOD:PUBLISH
X-WR-CALNAME:Secteur Nicolet (04-C)
X-ORIGINAL-URL:https://nicolet.areq.lacsq.org
X-WR-CALDESC:évènements pour Secteur Nicolet (04-C)
BEGIN:VTIMEZONE
TZID:America/New_York
BEGIN:DAYLIGHT
TZOFFSETFROM:-0500
TZOFFSETTO:-0400
TZNAME:EDT
DTSTART:20250309T070000
END:DAYLIGHT
BEGIN:STANDARD
TZOFFSETFROM:-0400
TZOFFSETTO:-0500
TZNAME:EST
DTSTART:20251102T060000
END:STANDARD
END:VTIMEZONE
BEGIN:VEVENT
DTSTART;TZID=America/New_York:20250925T080000
DTEND;TZID=America/New_York:20250925T170000
DTSTAMP:20260419T171659
CREATED:20250911T145648Z
LAST-MODIFIED:20250911T145648Z
UID:3234-1758787200-1758819600@nicolet.areq.lacsq.org
SUMMARY:Le grand démantèlement
DESCRIPTION:COMITÉ RÉGIONAL SOCIOPOLITIQUE\, Conférence avec M. Claude Vaillancourt \n  \nÉcrivain et essayiste\, M. Vaillancourt est un auteur engagé socialement et politiquement. Il est président de l’organisation Attac-Québec (Action citoyenne pour la justice fiscale\, sociale et écologique). Il s’est entre autres commis sur des sujets comme le libre-échange et le commerce international. Il est membre du collectif de la revue À bâbord! \nL’évolution actuelle du monde vous cause-t-elle des inquiétudes ? Avez-vous l’impression d’assister\nau « grand démantèlement » de nos acquis économiques et sociaux ? Notre principal allié économique nous traite maintenant comme un état profiteur. Certains dirigeants du monde veulent imposer un nouvel ordre social ? Ce nouvel ordre social nous sera-t-il favorable ? Dans tous ces bouleversements\, qu’en est-il de la justice sociale\, laquelle ne peut exister sans une fiscalité équitable ? Les gouvernements se privant de revenus\, les services à la communauté rétrécissent inexorablement. Le monde que nous avons construit se détruit sous nos yeux. La sécurité que nous croyions avoir acquise devient illusoire. \nPour nous aider à y voir plus clair\, M. Vaillancourt nous livrera le fruit de ses réflexions sur ces questions et nous aidera à identifier des pistes de solutions pour établir un nouveau rapport de force en notre faveur\, mais également en faveur des générations qui nous suivent. \n\nAccueil : 9 h 15 à 9 h 45\nConférence : 9 h 45 à 11 h 30 (pause de 15 minutes)\nPériode de questions : 11 h 30 à 12 h 00\nDîner : 12 h 00\nActivité d’intégration et moyens pour passer à l’action : 13 h 15 à 14 h 45\nMot de la fin et évaluation : 14 h 45\nCoût : 25 $ membre (50 $ non-membre) \nInscription avant le 15 septembre\, à l’adresse suivante: marc.dion@sogetel.net
URL:https://nicolet.areq.lacsq.org/event/le-grand-demantelement/
LOCATION:Hôtel Travelodge\, 3600 Boul Gene H Kruger\, Trois-Rivières\, Québec\, G9A 4M3\, Canada
END:VEVENT
END:VCALENDAR