BEGIN:VCALENDAR
VERSION:2.0
PRODID:-//Secteur Nicolet (04-C) - ECPv5.14.0.4//NONSGML v1.0//EN
CALSCALE:GREGORIAN
METHOD:PUBLISH
X-WR-CALNAME:Secteur Nicolet (04-C)
X-ORIGINAL-URL:https://nicolet.areq.lacsq.org
X-WR-CALDESC:évènements pour Secteur Nicolet (04-C)
BEGIN:VTIMEZONE
TZID:America/New_York
BEGIN:DAYLIGHT
TZOFFSETFROM:-0500
TZOFFSETTO:-0400
TZNAME:EDT
DTSTART:20250309T070000
END:DAYLIGHT
BEGIN:STANDARD
TZOFFSETFROM:-0400
TZOFFSETTO:-0500
TZNAME:EST
DTSTART:20251102T060000
END:STANDARD
END:VTIMEZONE
BEGIN:VEVENT
DTSTART;TZID=America/New_York:20251107T080000
DTEND;TZID=America/New_York:20251107T170000
DTSTAMP:20260419T171431
CREATED:20250912T140436Z
LAST-MODIFIED:20250912T140436Z
UID:3250-1762502400-1762534800@nicolet.areq.lacsq.org
SUMMARY:L’ANDROPAUSE ET SES EFFETS
DESCRIPTION:JOURNÉE INTERNATIONALE DES HOMMES\nConférence de Mme Ariane Smith\, urologue au CHAUR \nNous connaissons tous et toutes la ménopause. Mais l’équivalent masculin de cette transformation existe-t-il réellement chez l’autre. L’andropause est-elle un mythe ou une réalité ? \nL’andropause est un trouble associé à la diminution de l’hormone masculine appelée testostérone. Elle diffère de la ménopause\, car la diminution de la testostérone et l’apparition des symptômes sont plus graduelles que chez la femme. \nBien que les symptômes varient parfois d’une personne à l’autre\, les symptômes habituels des\nhommes qui traversent l’andropause sont les suivants : \n\nune diminution de l’appétit sexuel;\ndes difficultés à obtenir une érection ou une réduction de la force des érections;\nune perte d’énergie;\nune dépression;\nde l’irritabilité et des sautes d’humeur;\nune perte de la force ou de la masse musculaire;\nun inconfort aux seins ou une augmentation de leur volume;\nune augmentation du tissu adipeux;\ndes bouffées de chaleur ou de la sueur.\n\nLes complications associées à l’andropause incluent l’augmentation du risque de maladies\ncardiovasculaires et l’ostéoporose (os fragiles). Pour vous aider à y voir plus clair\, le comité régional des hommes a le plaisir de vous inviter à la conférence « L’andropause et ses effets » par la docteure Ariane Smith\, urologue au CHAUR. Elle nous a grandement été recommandée pour ses compétences et ses qualités de vulgarisation. \n  \n\nAccueil : 9 h 30\nConférence : 10 h 15\nQuestions : 11 h 30 à 12 h 00\nDîner : 12 h 00\nÉvaluation et mot de la fin : 13 h 30\n\nCoût : 30 $ membre; 60 $ non-membre \nInscription : avant le 28 octobre 2025\, à l’adresse suivante: marc.dion@sogetel.net
URL:https://nicolet.areq.lacsq.org/event/landropause-et-ses-effets/
LOCATION:Salle Sérénité\, 1301\, 5 Avenue\, Grand\, G9T 2N6\, Canada
END:VEVENT
END:VCALENDAR