BEGIN:VCALENDAR
VERSION:2.0
PRODID:-//Secteur Nicolet (04-C) - ECPv5.14.0.4//NONSGML v1.0//EN
CALSCALE:GREGORIAN
METHOD:PUBLISH
X-WR-CALNAME:Secteur Nicolet (04-C)
X-ORIGINAL-URL:https://nicolet.areq.lacsq.org
X-WR-CALDESC:évènements pour Secteur Nicolet (04-C)
BEGIN:VTIMEZONE
TZID:America/New_York
BEGIN:DAYLIGHT
TZOFFSETFROM:-0500
TZOFFSETTO:-0400
TZNAME:EDT
DTSTART:20200308T070000
END:DAYLIGHT
BEGIN:STANDARD
TZOFFSETFROM:-0400
TZOFFSETTO:-0500
TZNAME:EST
DTSTART:20201101T060000
END:STANDARD
END:VTIMEZONE
BEGIN:VEVENT
DTSTART;VALUE=DATE:20200611
DTEND;VALUE=DATE:20200612
DTSTAMP:20260423T174714
CREATED:20190908T124031Z
LAST-MODIFIED:20200329T131955Z
UID:2024-1591833600-1591919999@nicolet.areq.lacsq.org
SUMMARY:Journée de la Fondation Laure-Gaudreault (À CONFIRMER)
DESCRIPTION:Horaire de la journée : \n10 h 00 : Accueil \n10 h 30 : Brunch \n11 h 30 : Putting \n12 h 00 : Clinique sur les vélos électriques (Vélo Vision) \n13 h 00 : Départ de l’excursion à vélo et du circuit touristique \n18 h 00 : Souper\, méchoui 3 viandes \nCoûts : \n\nGolf : 95 $ par personne avec voiturette\, incluant le brunch et le souper\nExcursion à vélo : 50 $ incluant le brunch et le souper\nCircuit touristique : 70 $ incluant le brunch\,  les visites et le souper\n\nPremier arrêt : NATURE 2 ART; Promenade et découverte de tableaux de Luc Leclerc et des vitraux de Sylvie Savoie. Démonstration de leurs techniques et prestation musicale de Luc Leclerc. \nDeuxième arrêt : Microbrasserie Le BockAle avec dégustation pour de nouvelles sensations gustatives \nSouper seulement : 40 $  (Cinq dollars pour la FLG sont inclus dans votre inscription). \n  \nInscriptions : \nDu 1er avril au 22 mai 2020 Nous demandons les inscriptions pour le 22 mai afin de finaliser le volet inscription avant de partir pour le congrès. \nS’inscrire auprès de : Christiane Halikas  4855\, rue Principale\, St-Cyrille-de-Wendover\, J1Z 0B8  Tél. :  819 397-2207    Courriel : halikasc@cgocable.ca  (SVP joindre votre chèque libellé au nom de AREQ 04E avec votre inscription)
URL:https://nicolet.areq.lacsq.org/event/journee-de-la-fondation-laure-gaudreault/
LOCATION:Club de golf Hériot\, 4205 Chemin Tourville\, Drummondville\, Québec\, J2A 3Z1\, Canada
END:VEVENT
END:VCALENDAR