BEGIN:VCALENDAR
VERSION:2.0
PRODID:-//Secteur Nicolet (04-C) - ECPv5.14.0.4//NONSGML v1.0//EN
CALSCALE:GREGORIAN
METHOD:PUBLISH
X-WR-CALNAME:Secteur Nicolet (04-C)
X-ORIGINAL-URL:https://nicolet.areq.lacsq.org
X-WR-CALDESC:évènements pour Secteur Nicolet (04-C)
BEGIN:VTIMEZONE
TZID:America/New_York
BEGIN:DAYLIGHT
TZOFFSETFROM:-0500
TZOFFSETTO:-0400
TZNAME:EDT
DTSTART:20190310T070000
END:DAYLIGHT
BEGIN:STANDARD
TZOFFSETFROM:-0400
TZOFFSETTO:-0500
TZNAME:EST
DTSTART:20191103T060000
END:STANDARD
END:VTIMEZONE
BEGIN:VEVENT
DTSTART;TZID=America/New_York:20191008T100000
DTEND;TZID=America/New_York:20191008T150000
DTSTAMP:20260422T083948
CREATED:20190908T121218Z
LAST-MODIFIED:20190928T164046Z
UID:1989-1570528800-1570546800@nicolet.areq.lacsq.org
SUMMARY:Dîner et conférence de Guillaume Vermette
DESCRIPTION:10h : Accueil  \nVers 11h : conférence de Guillaume Vermette\, clown humanitaire. Il est jeune et dynamique. Il a passé à l’émission La Grand messe l’année passée. Il est originaire de Nicolet. \nMenu :\nEntrée : Assiette de crudités et trempettes (carottes\, céleri\, chou-fleur\, brocoli\, concombres et trempettes maison) \nPotage : Crème de légumes ( pains\, beurres et biscuits soda) \nBœuf bourguignon (cubes de bœuf avec oignon\, champignons\, sauce tomate au vin rouge assaisonnée) servi avec légumes assortis chauds (carottes\, pois et navet) et pommes de terre pilées \nGâteau vanille caramel ou gâteau chocolat mousse\, coulis de fraises et crème fouettée \nCafé\, thé\, tisane \n 
URL:https://nicolet.areq.lacsq.org/event/diner-et-conference-de-guillaume-vermette/
LOCATION:Salle Richard Lebeau\, 375 Rue Germain\, Saint-Léonard-d'Aston\, Québec\, J0C 1M0\, Canada
END:VEVENT
END:VCALENDAR