BEGIN:VCALENDAR
VERSION:2.0
PRODID:-//Secteur Nicolet (04-C) - ECPv5.14.0.4//NONSGML v1.0//EN
CALSCALE:GREGORIAN
METHOD:PUBLISH
X-WR-CALNAME:Secteur Nicolet (04-C)
X-ORIGINAL-URL:https://nicolet.areq.lacsq.org
X-WR-CALDESC:évènements pour Secteur Nicolet (04-C)
BEGIN:VTIMEZONE
TZID:America/New_York
BEGIN:DAYLIGHT
TZOFFSETFROM:-0500
TZOFFSETTO:-0400
TZNAME:EDT
DTSTART:20170312T070000
END:DAYLIGHT
BEGIN:STANDARD
TZOFFSETFROM:-0400
TZOFFSETTO:-0500
TZNAME:EST
DTSTART:20171105T060000
END:STANDARD
END:VTIMEZONE
BEGIN:VEVENT
DTSTART;TZID=America/New_York:20170214T093000
DTEND;TZID=America/New_York:20170214T140000
DTSTAMP:20260422T083403
CREATED:20170124T155519Z
LAST-MODIFIED:20170124T155519Z
UID:912-1487064600-1487080800@nicolet.areq.lacsq.org
SUMMARY:Dîner de la Saint-Valentin
DESCRIPTION:Spectacle de danses folkloriques avec participation de ceux qui le désirent.\nHoraire :  \n\n9 h 30 :   Accueil et café\n10 h 00 : Mot du président\n10 h 10 : Danses folkloriques\n11 h 45 : Informations diverses\n12 h 00 : Dîner (apportez votre vin)\n\nMenu : \n\nPotage du chef\nSalade épinards et framboises\nSuprême de poulet et mignon de porc\nPatates au four\nSalade de pâtes colorées et salade de légumes\nDessert chocolaté\nCafé\, thé ou tisane\n\nN.B. \n\nRéponses attendues avant le 5 février 2017\n5 dollars de plus pour les non-membres\n\n 
URL:https://nicolet.areq.lacsq.org/event/diner-de-saint-valentin/
LOCATION:Le Mont-Bénilde\, 1325 avenue des pensées\, Bécancour\, Québec\, G9H 2T1\, Canada
END:VEVENT
END:VCALENDAR