BEGIN:VCALENDAR
VERSION:2.0
PRODID:-//Secteur Nicolet (04-C) - ECPv5.14.0.4//NONSGML v1.0//EN
CALSCALE:GREGORIAN
METHOD:PUBLISH
X-WR-CALNAME:Secteur Nicolet (04-C)
X-ORIGINAL-URL:https://nicolet.areq.lacsq.org
X-WR-CALDESC:évènements pour Secteur Nicolet (04-C)
BEGIN:VTIMEZONE
TZID:America/New_York
BEGIN:DAYLIGHT
TZOFFSETFROM:-0500
TZOFFSETTO:-0400
TZNAME:EDT
DTSTART:20190310T070000
END:DAYLIGHT
BEGIN:STANDARD
TZOFFSETFROM:-0400
TZOFFSETTO:-0500
TZNAME:EST
DTSTART:20191103T060000
END:STANDARD
END:VTIMEZONE
BEGIN:VEVENT
DTSTART;TZID=America/New_York:20190212T100000
DTEND;TZID=America/New_York:20190212T150000
DTSTAMP:20260422T104304
CREATED:20180908T190811Z
LAST-MODIFIED:20190201T162202Z
UID:1521-1549965600-1549983600@nicolet.areq.lacsq.org
SUMMARY:Dîner de la Saint-Valentin 2019
DESCRIPTION:Pour la Saint-Valentin\, nous chanterons l’amitié et l’amour  ensemble avec une chorale improvisée de nos membres. \nNous vous remettrons aussi le 2e numéro de l’année du Trait d’union. \n Accueil dès 10h \n  \nVoici une idée du menu : \n\nFONDUE PARMESAN SUR NID DE VERDURE\nFONDUE CHINOISE BOEUF ET PORC \nPOMMES DE TERRES AU FOUR ET AUTRES LÉGUMES\nFONDUES CHOCOLAT ET CARAMEL AVEC FRUITS FRAIS\n\n  \nCoût : 25 $. \nInscription avant  le 5 février 2019.
URL:https://nicolet.areq.lacsq.org/event/diner-de-saint-valentin-2019/
LOCATION:Le Mont-Bénilde\, 1325 avenue des pensées\, Bécancour\, Québec\, G9H 2T1\, Canada
END:VEVENT
END:VCALENDAR