BEGIN:VCALENDAR
VERSION:2.0
PRODID:-//Secteur Nicolet (04-C) - ECPv5.14.0.4//NONSGML v1.0//EN
CALSCALE:GREGORIAN
METHOD:PUBLISH
X-WR-CALNAME:Secteur Nicolet (04-C)
X-ORIGINAL-URL:https://nicolet.areq.lacsq.org
X-WR-CALDESC:évènements pour Secteur Nicolet (04-C)
BEGIN:VTIMEZONE
TZID:America/New_York
BEGIN:DAYLIGHT
TZOFFSETFROM:-0500
TZOFFSETTO:-0400
TZNAME:EDT
DTSTART:20170312T070000
END:DAYLIGHT
BEGIN:STANDARD
TZOFFSETFROM:-0400
TZOFFSETTO:-0500
TZNAME:EST
DTSTART:20171105T060000
END:STANDARD
END:VTIMEZONE
BEGIN:VEVENT
DTSTART;TZID=America/New_York:20171212T100000
DTEND;TZID=America/New_York:20171212T143000
DTSTAMP:20260420T000330
CREATED:20170913T141337Z
LAST-MODIFIED:20171129T144300Z
UID:1266-1513072800-1513089000@nicolet.areq.lacsq.org
SUMMARY:Dîner de Noël 2017
DESCRIPTION: .\nVos dons en effets non périssables seront appréciés… ou vos sous\n  \n20$ (30$ non-membres) \n  \nHORAIRE DE LA RENCONTRE \n10h 00 :  ACCUEIL ET CAFÉ \n10h 20 :   COCKTAIL et CANAPÉS \n10h 30 :   MOT DE BIENVENUE  \n10h 40 :   CHANSONS TRADITIONNELLES \n11h 40 :    FONDATION FLG \n12h 15 :     DÎNER \n13h 45 :    TIRAGES \nMENU \nService d’un cocktail \nKir Fragoli  (Mousseux avec liqueur de fraises des bois) \nService de canapés \nProfiteroles à  la mousseline de volaille \nMini pita\, gravlax de saumon et phili à la ciboulette \nMousse de foie au porto et confit d’oignon rouge \nPommes au calvados et rillettes du Mans \nVIN ROUGE OU BLANC  POUR ACCOMPAGNER VOTRE REPAS \n Repas principal \nCrème de légumes \nDinde\, tourtière et ragoût \nPommes de terre pilées et légumes \nKetchup maison\, betteraves\, canneberges \nDessert \nBûche de Noël et crème glacée \nVOTRE PRÉSENCE EST ATTENDUE ET UN RECORD D’ASSISTANCE EST PRÉVU \n RÉPONDRE POUR LE DIMANCHE 4 DÉCEMBRE 2017
URL:https://nicolet.areq.lacsq.org/event/diner-de-noel/
LOCATION:Centre des arts populaires\, 725 boulevard Louis-Fréchette\, Nicolet\, Québec\, J3T 1L6\, Canada
END:VEVENT
END:VCALENDAR