BEGIN:VCALENDAR
VERSION:2.0
PRODID:-//Secteur Nicolet (04-C) - ECPv5.14.0.4//NONSGML v1.0//EN
CALSCALE:GREGORIAN
METHOD:PUBLISH
X-WR-CALNAME:Secteur Nicolet (04-C)
X-ORIGINAL-URL:https://nicolet.areq.lacsq.org
X-WR-CALDESC:évènements pour Secteur Nicolet (04-C)
BEGIN:VTIMEZONE
TZID:America/New_York
BEGIN:DAYLIGHT
TZOFFSETFROM:-0500
TZOFFSETTO:-0400
TZNAME:EDT
DTSTART:20190310T070000
END:DAYLIGHT
BEGIN:STANDARD
TZOFFSETFROM:-0400
TZOFFSETTO:-0500
TZNAME:EST
DTSTART:20191103T060000
END:STANDARD
END:VTIMEZONE
BEGIN:VEVENT
DTSTART;TZID=America/New_York:20191210T100000
DTEND;TZID=America/New_York:20191210T170000
DTSTAMP:20260422T071304
CREATED:20190908T121830Z
LAST-MODIFIED:20191130T135007Z
UID:1995-1575972000-1575997200@nicolet.areq.lacsq.org
SUMMARY:Dîner de Noël et chorale
DESCRIPTION:Spectacle de Noël de la chorale Clé d’Or de Nicolet\n… suivi d’un délicieux repas de Noël\n\n25$ et nous fournissons le vin!\nIl y aura cueillette de denrées non-périssables ou en argent pour les plus démunis de la région. Merci de votre générosité!\n\nService d’un cocktail et de café : 10h30 à 11h00\nKyr Fragoli\n(Mousseux avec liqueur de fraises des bois) \n_____________________________________\nService de canapés\nProfiteroles à la mousseline de volaille\nCrevettes croustillantes à la mer\nTomate et bocconcini\nMousse de foie au porto et confit d’oignon rouge \n_____________________________________ \nRepas principal : 12h15\nCrème de légumes \nSalade \nDinde\, tourtière et ragoût\nPommes de terre pilées et légumes \nKetchup maison\, betteraves\, canneberges \nMini-cake de noël
URL:https://nicolet.areq.lacsq.org/event/diner-de-noel-et-chorale/
LOCATION:Centre des arts populaires\, 725 boulevard Louis-Fréchette\, Nicolet\, Québec\, J3T 1L6\, Canada
END:VEVENT
END:VCALENDAR