BEGIN:VCALENDAR
VERSION:2.0
PRODID:-//Secteur Nicolet (04-C) - ECPv5.14.0.4//NONSGML v1.0//EN
CALSCALE:GREGORIAN
METHOD:PUBLISH
X-WR-CALNAME:Secteur Nicolet (04-C)
X-ORIGINAL-URL:https://nicolet.areq.lacsq.org
X-WR-CALDESC:évènements pour Secteur Nicolet (04-C)
BEGIN:VTIMEZONE
TZID:America/New_York
BEGIN:DAYLIGHT
TZOFFSETFROM:-0500
TZOFFSETTO:-0400
TZNAME:EDT
DTSTART:20180311T070000
END:DAYLIGHT
BEGIN:STANDARD
TZOFFSETFROM:-0400
TZOFFSETTO:-0500
TZNAME:EST
DTSTART:20181104T060000
END:STANDARD
END:VTIMEZONE
BEGIN:VEVENT
DTSTART;TZID=America/New_York:20181211T100000
DTEND;TZID=America/New_York:20181211T150000
DTSTAMP:20260422T104318
CREATED:20180908T190555Z
LAST-MODIFIED:20181128T152147Z
UID:1519-1544522400-1544540400@nicolet.areq.lacsq.org
SUMMARY:Dîner de Noël 2018
DESCRIPTION:Spectacle de Noël de la chorale Clé d’Or de Nicolet … suivi d’un délicieux repas de Noël \n25$ et nous fournissons le vin! \nIl y aura cueillette de denrées non-périssables ou en argent pour les  plus démunis de la région. Merci de votre générosité!
URL:https://nicolet.areq.lacsq.org/event/diner-de-noel-2018/
LOCATION:Centre des arts populaires\, 725 boulevard Louis-Fréchette\, Nicolet\, Québec\, J3T 1L6\, Canada
END:VEVENT
END:VCALENDAR