BEGIN:VCALENDAR
VERSION:2.0
PRODID:-//Secteur Nicolet (04-C) - ECPv5.14.0.4//NONSGML v1.0//EN
CALSCALE:GREGORIAN
METHOD:PUBLISH
X-WR-CALNAME:Secteur Nicolet (04-C)
X-ORIGINAL-URL:https://nicolet.areq.lacsq.org
X-WR-CALDESC:évènements pour Secteur Nicolet (04-C)
BEGIN:VTIMEZONE
TZID:America/New_York
BEGIN:DAYLIGHT
TZOFFSETFROM:-0500
TZOFFSETTO:-0400
TZNAME:EDT
DTSTART:20170312T070000
END:DAYLIGHT
BEGIN:STANDARD
TZOFFSETFROM:-0400
TZOFFSETTO:-0500
TZNAME:EST
DTSTART:20171105T060000
END:STANDARD
END:VTIMEZONE
BEGIN:VEVENT
DTSTART;TZID=America/New_York:20170315T103000
DTEND;TZID=America/New_York:20170315T143000
DTSTAMP:20260422T044002
CREATED:20170215T132145Z
LAST-MODIFIED:20170226T133303Z
UID:961-1489573800-1489588200@nicolet.areq.lacsq.org
SUMMARY:Dîner conférence
DESCRIPTION:MOIS DE LA NUTRITION\n\n \nVenez vous gaver au buffet du rouge-vin\nMENU \n\nMarmite du chef (crème d’oignon doux)\nVariété de crudités et trempettes\nMéli-mélo de salades saison\, deux salades composées du marché et marinades maison\nMiroir de charcuteries et pâtés\nLasagne à la viande à notre façon\nFilet de truite arc-en-ciel  à la mangue et poivre rose\nLonge de porc braisé aux pommes et vin blanc\nSauté de légumes du jardin et pommes de terre du chef\nFromages fins et cheddar de chez-nous\nAssortiment de desserts et salade de fruits\nPain\, beurre\, café\, thé et infusion\n\n  \n\n  \nVous connaissez le Chemin de Compostelle. \nConnaissez-vous la Via Francigena? \nSi oui\, venez voir comment Yvon en a franchi toutes les étapes. \nSi non\, venez voir comment ces longues traversées à pied de l’Europe se réalisent. \n  \n  \nDÎNER-VIDEO-CONFÉRENCE \nClub de golf Godefroy de Bécancour                                             \nCoût : 20$ (membre) 25$ (non-membre) \n  \nPROGRAMMATION \n9 H 45 – 10 H 30      INSCRIPTIONS ET CAFÉ \n10 H 30                       MOT DE BIENVENUE \n10 H 45                        CONFÉRENCE DE YVON LEMAY \n11 H 45                         INFORMATIONS \n12 H                               DÎNER
URL:https://nicolet.areq.lacsq.org/event/diner-conference-2/
LOCATION:Club de golf Godefroy\, Bécancour
END:VEVENT
END:VCALENDAR