BEGIN:VCALENDAR
VERSION:2.0
PRODID:-//Secteur Nicolet (04-C) - ECPv5.14.0.4//NONSGML v1.0//EN
CALSCALE:GREGORIAN
METHOD:PUBLISH
X-WR-CALNAME:Secteur Nicolet (04-C)
X-ORIGINAL-URL:https://nicolet.areq.lacsq.org
X-WR-CALDESC:évènements pour Secteur Nicolet (04-C)
BEGIN:VTIMEZONE
TZID:America/New_York
BEGIN:DAYLIGHT
TZOFFSETFROM:-0500
TZOFFSETTO:-0400
TZNAME:EDT
DTSTART:20180311T070000
END:DAYLIGHT
BEGIN:STANDARD
TZOFFSETFROM:-0400
TZOFFSETTO:-0500
TZNAME:EST
DTSTART:20181104T060000
END:STANDARD
END:VTIMEZONE
BEGIN:VEVENT
DTSTART;TZID=America/New_York:20180313T100000
DTEND;TZID=America/New_York:20180313T143000
DTSTAMP:20260422T042920
CREATED:20170913T141818Z
LAST-MODIFIED:20180227T192638Z
UID:1272-1520935200-1520951400@nicolet.areq.lacsq.org
SUMMARY:Mois de l'alimentation
DESCRIPTION:COÛT : 20 $ (membre) ET 25 $ (non membre) POUR UN REPAS À LA HAUTEUR DU MOIS DE L’ALIMENTATION \n  \n10 H                      ARRIVÉE\, CAFÉ ET INSCRIPTIONS \n10 H 45                MOT DE BIENVENUE PAR LA PRÉSIDENTE \n11 H                      CONFÉRENCE  DE JULIEN THIBEAULT SUR LES FROMAGES  ET DÉGUSTATION \n12 H                      DÎNER \nMENU \n\nMarmite du chef (potage pommes de terre douces et pancetta)\nVariété de crudités et trempettes\nMéli-mélo de salades de saison & vinaigrette assortie\nDeux salades composées du marché au choix du chef\nPennines sauce bolognaise\nFilet de truite arc-en-ciel à la mangue et poivre rose\nMijoté de bœuf à notre façon bourguignonne\nSauté de légumes du jardin\nRiz aux fines herbes\nAssortiment de desserts\nSalade de fruits frais\nPain et petit beurre\nCafé\, thé\, infusion\n\nRÉPONSES ATTENDUES POUR LUNDI LE 5 MARS 2018 AU PLUS TARD
URL:https://nicolet.areq.lacsq.org/event/diner-club-de-golf/
LOCATION:Club de golf Godefroy\, Bécancour
END:VEVENT
END:VCALENDAR