BEGIN:VCALENDAR
VERSION:2.0
PRODID:-//Secteur Nicolet (04-C) - ECPv5.14.0.4//NONSGML v1.0//EN
CALSCALE:GREGORIAN
METHOD:PUBLISH
X-WR-CALNAME:Secteur Nicolet (04-C)
X-ORIGINAL-URL:https://nicolet.areq.lacsq.org
X-WR-CALDESC:évènements pour Secteur Nicolet (04-C)
BEGIN:VTIMEZONE
TZID:America/New_York
BEGIN:DAYLIGHT
TZOFFSETFROM:-0500
TZOFFSETTO:-0400
TZNAME:EDT
DTSTART:20170312T070000
END:DAYLIGHT
BEGIN:STANDARD
TZOFFSETFROM:-0400
TZOFFSETTO:-0500
TZNAME:EST
DTSTART:20171105T060000
END:STANDARD
END:VTIMEZONE
BEGIN:VEVENT
DTSTART;VALUE=DATE:20170117
DTEND;VALUE=DATE:20170118
DTSTAMP:20260422T101217
CREATED:20160413T130327Z
LAST-MODIFIED:20160413T130327Z
UID:285-1484611200-1484697599@nicolet.areq.lacsq.org
SUMMARY:Déjeuner des bénévoles
DESCRIPTION:
URL:https://nicolet.areq.lacsq.org/event/dejeuner-des-benevoles/
LOCATION:Auberge Godefroy\, 17575\, boul. Bécancour\,  Bécancour\, Québec\, G9H 1A5\, Canada
END:VEVENT
END:VCALENDAR