BEGIN:VCALENDAR
VERSION:2.0
PRODID:-//Secteur Nicolet (04-C) - ECPv5.14.0.4//NONSGML v1.0//EN
CALSCALE:GREGORIAN
METHOD:PUBLISH
X-WR-CALNAME:Secteur Nicolet (04-C)
X-ORIGINAL-URL:https://nicolet.areq.lacsq.org
X-WR-CALDESC:évènements pour Secteur Nicolet (04-C)
BEGIN:VTIMEZONE
TZID:America/New_York
BEGIN:DAYLIGHT
TZOFFSETFROM:-0500
TZOFFSETTO:-0400
TZNAME:EDT
DTSTART:20200308T070000
END:DAYLIGHT
BEGIN:STANDARD
TZOFFSETFROM:-0400
TZOFFSETTO:-0500
TZNAME:EST
DTSTART:20201101T060000
END:STANDARD
END:VTIMEZONE
BEGIN:VEVENT
DTSTART;VALUE=DATE:20200324
DTEND;VALUE=DATE:20200325
DTSTAMP:20260422T190341
CREATED:20190908T130404Z
LAST-MODIFIED:20190908T130404Z
UID:2062-1585008000-1585094399@nicolet.areq.lacsq.org
SUMMARY:Conseil (2) national des présidents de secteurs - Jour 2
DESCRIPTION:
URL:https://nicolet.areq.lacsq.org/event/conseil-2-national-des-presidents-de-secteurs-jour-2/
LOCATION:Château Laurier\, 1220 Place George V O\, Québec\, Québec\, G1R 5B8\, Canada
END:VEVENT
END:VCALENDAR