BEGIN:VCALENDAR
VERSION:2.0
PRODID:-//Secteur Nicolet (04-C) - ECPv5.14.0.4//NONSGML v1.0//EN
CALSCALE:GREGORIAN
METHOD:PUBLISH
X-WR-CALNAME:Secteur Nicolet (04-C)
X-ORIGINAL-URL:https://nicolet.areq.lacsq.org
X-WR-CALDESC:évènements pour Secteur Nicolet (04-C)
BEGIN:VTIMEZONE
TZID:America/New_York
BEGIN:DAYLIGHT
TZOFFSETFROM:-0500
TZOFFSETTO:-0400
TZNAME:EDT
DTSTART:20190310T070000
END:DAYLIGHT
BEGIN:STANDARD
TZOFFSETFROM:-0400
TZOFFSETTO:-0500
TZNAME:EST
DTSTART:20191103T060000
END:STANDARD
END:VTIMEZONE
BEGIN:VEVENT
DTSTART;TZID=America/New_York:20191125T130000
DTEND;TZID=America/New_York:20191125T180000
DTSTAMP:20260422T061151
CREATED:20191002T123209Z
LAST-MODIFIED:20191002T123209Z
UID:2136-1574686800-1574704800@nicolet.areq.lacsq.org
SUMMARY:Comité santé : La chiropratique : une approche à démystifier
DESCRIPTION:Même si la chiropratique est une profession plus que centenaire\, et malgré qu’elle soit enseignée en milieu universitaire depuis plus de 25 ans au Québec\, il n’est pas rare d’entendre des questionnements quant à ses possibles bienfaits ou encore quant à sa sécurité comme approche en santé.\nLa Dre Danica Brousseau\, chiropraticienne\, M.Sc.\, D.C.\, professeure clinicienne au département de chiropratique de l’UQTR et actuelle directrice du comité de programme de 1er cycle agira à titre de conférencière. Sa conférence vous permettra de mieux comprendre la formation et l’approche du chiropraticien\, son champ d’expertise\, ainsi que de situer cette profession parmi les autres approches en santé (tant traditionnelles qu’alternatives ou complémentaires). Les types de soins offerts en fonction de divers problèmes de santé seront présentés\, avec une emphase sur les soins en lien avec les affections dégénératives musculosquelettiques (arthrite\, arthrose\, ostéoporose\, etc…).\nN’hésitez pas à préparer vos questions; une période sera allouée pour que vous puissiez avoir réponse à toutes vos interrogations.\nDébut de la conférence : 13 h 30\n Coût : 5 $/membre et 7 $/ami\, incluant une collation qui vous sera offerte à la pause.
URL:https://nicolet.areq.lacsq.org/event/comite-sante-la-chiropratique-une-approche-a-demystifier/
LOCATION:Pavillon Maurice Pitre\, 6455 Rue Notre Dame Ouest\, Trois-Rivières\, Québec\, G9A 5A6\, Canada
END:VEVENT
END:VCALENDAR