BEGIN:VCALENDAR
VERSION:2.0
PRODID:-//Secteur Nicolet (04-C) - ECPv5.14.0.4//NONSGML v1.0//EN
CALSCALE:GREGORIAN
METHOD:PUBLISH
X-WR-CALNAME:Secteur Nicolet (04-C)
X-ORIGINAL-URL:https://nicolet.areq.lacsq.org
X-WR-CALDESC:évènements pour Secteur Nicolet (04-C)
BEGIN:VTIMEZONE
TZID:America/New_York
BEGIN:DAYLIGHT
TZOFFSETFROM:-0500
TZOFFSETTO:-0400
TZNAME:EDT
DTSTART:20190310T070000
END:DAYLIGHT
BEGIN:STANDARD
TZOFFSETFROM:-0400
TZOFFSETTO:-0500
TZNAME:EST
DTSTART:20191103T060000
END:STANDARD
END:VTIMEZONE
BEGIN:VEVENT
DTSTART;TZID=America/New_York:20191028T130000
DTEND;TZID=America/New_York:20191028T160000
DTSTAMP:20260422T071804
CREATED:20191002T121053Z
LAST-MODIFIED:20191002T123353Z
UID:2126-1572267600-1572278400@nicolet.areq.lacsq.org
SUMMARY:Comité santé : Au volant de ma santé
DESCRIPTION:La conduite automobile est une activité complexe qui exige plusieurs habiletés.\nAprès plusieurs années de conduite\, il est facile d’oublier que plusieurs de nos fonctions sont sollicitées en conduisant. L’âge ne permet pas de déterminer si une personne est apte à conduire de manière sécuritaire. Malgré tout\, des changements au niveau cognitif\, sensoriel et physique peuvent survenir avec l’avancement en âge et avoir un impact sur la capacité de conduire de façon sécuritaire.\nMadame Marie-Ève Laforest de la SAAQ\, conseillère régionale en partenariat de sécurité routière Estrie — Mauricie — Centre-du-Québec\, agira à titre de conférencière et souhaite répondre à toutes vos questions.\nLes principaux thèmes abordés seront :\n\n\nLes problèmes de santé et la conduite automobile;\n\n\nLe rôle de la SAAQ dans l’évaluation de la capacité à conduire des aînés;\n\n\nUn rafraîchissement des connaissances sur la conduite automobile (panneaux\, règles de la route\, manœuvres\, carrefour giratoire\, nouvelles mesures du code de la sécurité routière…);\n\n\n Les habiletés requises pour la conduite automobile sécuritaire.\n\n\nDébut de la conférence : 13 h 30\nCoût : 5 $/membre et 7 $/ami\, incluant une collation qui vous sera offerte à la pause.
URL:https://nicolet.areq.lacsq.org/event/comite-sante-au-volant-de-ma-sante/
LOCATION:Pavillon Maurice Pitre\, 6455 Rue Notre Dame Ouest\, Trois-Rivières\, Québec\, G9A 5A6\, Canada
END:VEVENT
END:VCALENDAR