BEGIN:VCALENDAR
VERSION:2.0
PRODID:-//Secteur Nicolet (04-C) - ECPv5.14.0.4//NONSGML v1.0//EN
CALSCALE:GREGORIAN
METHOD:PUBLISH
X-WR-CALNAME:Secteur Nicolet (04-C)
X-ORIGINAL-URL:https://nicolet.areq.lacsq.org
X-WR-CALDESC:évènements pour Secteur Nicolet (04-C)
BEGIN:VTIMEZONE
TZID:America/New_York
BEGIN:DAYLIGHT
TZOFFSETFROM:-0500
TZOFFSETTO:-0400
TZNAME:EDT
DTSTART:20160313T070000
END:DAYLIGHT
BEGIN:STANDARD
TZOFFSETFROM:-0400
TZOFFSETTO:-0500
TZNAME:EST
DTSTART:20161106T060000
END:STANDARD
END:VTIMEZONE
BEGIN:VEVENT
DTSTART;TZID=America/New_York:20161108T100000
DTEND;TZID=America/New_York:20161108T120000
DTSTAMP:20260422T152632
CREATED:20160413T125628Z
LAST-MODIFIED:20161024T130439Z
UID:276-1478599200-1478606400@nicolet.areq.lacsq.org
SUMMARY:Cérémonie ou messe pour nos défunts
DESCRIPTION:Conférence de Mme Isabelle Bergeron : «L’enseignement en France»
URL:https://nicolet.areq.lacsq.org/event/ceremonie-messe-nos-defunts/
LOCATION:Baie-du-Febvre\, 23b rue de l'Église\, Baie-du-Febvre\, Québec\, Canada
END:VEVENT
END:VCALENDAR