BEGIN:VCALENDAR
VERSION:2.0
PRODID:-//Secteur Nicolet (04-C) - ECPv5.14.0.4//NONSGML v1.0//EN
CALSCALE:GREGORIAN
METHOD:PUBLISH
X-WR-CALNAME:Secteur Nicolet (04-C)
X-ORIGINAL-URL:https://nicolet.areq.lacsq.org
X-WR-CALDESC:évènements pour Secteur Nicolet (04-C)
BEGIN:VTIMEZONE
TZID:America/New_York
BEGIN:DAYLIGHT
TZOFFSETFROM:-0500
TZOFFSETTO:-0400
TZNAME:EDT
DTSTART:20160313T070000
END:DAYLIGHT
BEGIN:STANDARD
TZOFFSETFROM:-0400
TZOFFSETTO:-0500
TZNAME:EST
DTSTART:20161106T060000
END:STANDARD
END:VTIMEZONE
BEGIN:VEVENT
DTSTART;TZID=America/New_York:20160419T100000
DTEND;TZID=America/New_York:20160419T140000
DTSTAMP:20260422T185829
CREATED:20160316T204348Z
LAST-MODIFIED:20160316T204348Z
UID:162-1461060000-1461074400@nicolet.areq.lacsq.org
SUMMARY:Assemblée générale sectorielle
DESCRIPTION:
URL:https://nicolet.areq.lacsq.org/event/assemblee-generale-sectorielle/
LOCATION:Centre Larochelle\, Saint-Grégoire\, Québec\, Canada
END:VEVENT
END:VCALENDAR