BEGIN:VCALENDAR
VERSION:2.0
PRODID:-//Secteur Nicolet (04-C) - ECPv5.14.0.4//NONSGML v1.0//EN
CALSCALE:GREGORIAN
METHOD:PUBLISH
X-WR-CALNAME:Secteur Nicolet (04-C)
X-ORIGINAL-URL:https://nicolet.areq.lacsq.org
X-WR-CALDESC:évènements pour Secteur Nicolet (04-C)
BEGIN:VTIMEZONE
TZID:America/New_York
BEGIN:DAYLIGHT
TZOFFSETFROM:-0500
TZOFFSETTO:-0400
TZNAME:EDT
DTSTART:20180311T070000
END:DAYLIGHT
BEGIN:STANDARD
TZOFFSETFROM:-0400
TZOFFSETTO:-0500
TZNAME:EST
DTSTART:20181104T060000
END:STANDARD
END:VTIMEZONE
BEGIN:VEVENT
DTSTART;TZID=America/New_York:20180508T100000
DTEND;TZID=America/New_York:20180508T143000
DTSTAMP:20260422T083419
CREATED:20170913T142436Z
LAST-MODIFIED:20180422T185326Z
UID:1277-1525773600-1525789800@nicolet.areq.lacsq.org
SUMMARY:Assemblée générale sectorielle 2018
DESCRIPTION:Dîner à la micro-brasserie «Ô Quai des Brasseurs»\, secteur Sainte-Angèle.\n(Située au quai de Sainte-Angèle) \n\n\n10$ pour tous les membres\n25$ pour les non-membres\n\n  \n  \n10H00           Accueil\,  inscriptions et café \n11H15             Élections \nÀ la présidence\, Marc Dion est candidat \nAu secrétariat\, ___________________ est candidat(e) \nÀ la vice-présidence\, ______________________est candidat(e) \nLES MISES EN CANDIDATURE SONT ACCEPTÉES  JUSQU’AU DÉBUT DE L’ASSEMBLÉE \n  \n12H00              Mot de la présidente régionale \n12H10              Dîner \n  \nMENU \nSoupe au choix du chef \nUn plat principal à choisir à l’arrivée parmi les 4 suggestions suivantes : \n\nPizza pita végétarienne\nSalade de canard fumé\nLe traditionnel cheeseburger garni\nFilet de truite servi avec riz et légumes\n\nDessert  \nThé et café
URL:https://nicolet.areq.lacsq.org/event/assemblee-generale-sectorielle-2018/
LOCATION:Micro-brasserie Ô Quai\, St-Angèle\, Québec\, Canada
END:VEVENT
END:VCALENDAR