BEGIN:VCALENDAR
VERSION:2.0
PRODID:-//Secteur Nicolet (04-C) - ECPv5.14.0.4//NONSGML v1.0//EN
CALSCALE:GREGORIAN
METHOD:PUBLISH
X-WR-CALNAME:Secteur Nicolet (04-C)
X-ORIGINAL-URL:https://nicolet.areq.lacsq.org
X-WR-CALDESC:évènements pour Secteur Nicolet (04-C)
BEGIN:VTIMEZONE
TZID:America/New_York
BEGIN:DAYLIGHT
TZOFFSETFROM:-0500
TZOFFSETTO:-0400
TZNAME:EDT
DTSTART:20180311T070000
END:DAYLIGHT
BEGIN:STANDARD
TZOFFSETFROM:-0400
TZOFFSETTO:-0500
TZNAME:EST
DTSTART:20181104T060000
END:STANDARD
END:VTIMEZONE
BEGIN:VEVENT
DTSTART;TZID=America/New_York:20180607T080000
DTEND;TZID=America/New_York:20180607T170000
DTSTAMP:20260422T101656
CREATED:20170913T143038Z
LAST-MODIFIED:20180211T153810Z
UID:1287-1528358400-1528390800@nicolet.areq.lacsq.org
SUMMARY:Assemblée générale régionale AREQ-04
DESCRIPTION:Avis de convocation \nAssemblée régionale Cœur et Centre-du-Québec \nLe jeudi 7 juin 2018 \nL’Areq 04 G de Cap-de-la-Madeleine recevra avec plaisir les membres de l’AREQ 04 Cœur-et-Centre-du-Québec à l’Assemblée générale régionale annuelle.  Elle se tiendra le jeudi 7 juin 2018 à la salle Félix Leclerc\, 1001\, rang Saint-Malo\, secteur Sainte-Marthe-du-Cap à Trois-Rivières. \nCe sera l’occasion de tracer un bilan de ce qui s’est passé dans notre région au cours de la dernière année et de fraterniser avec les membres des autres secteurs tout en prenant connaissance des différents dossiers. \nLes membres de la Fondation Laure-Gaudreau sont aussi convoqués\, par la présente\, à leur Assemblée générale qui se tiendra la journée même de 9h 15 à 9h 45. Cette fondation est la nôtre! \nMonique  Dionne\, présidente régionale \n  \n8 h 45 Accueil \n9 h 15 Assemblée générale FLG \n9 h 45 Assemblée générale régionale annuelle\, \n12 h 00  Repas \nCoût de l’activité : membre\, 10$;  non-membre\, le coût du repas \nBien vouloir réserver avant le 15 mai 2018 à Monsieur Gilbert Lahaye\,  gilbert.lahaye@sympatico.ca\, tél : 819. 693-4861\, ou au 240\, rue Saint-Irénée\, Trois-Rivières\, Qc\, G8T 7C7. À votre réservation\, joindre le nombre et la liste de noms des participants et leurs particularités s’il y a lieu. \nN.B. Chaque responsable de secteur devra apporter un chèque à l’ordre de l’AREQ 04 correspondant au nombre de membres présents à l’Assemblée régionale.  À l’arrivée à la Salle Félix Leclerc\, chaque responsable de secteur devra faire signer chaque membre de son secteur et par la suite remettre la liste à la trésorière régionale.
URL:https://nicolet.areq.lacsq.org/event/assemblee-generale-regionale-areq-04/
LOCATION:Salle Félix Leclerc\, 1001\, rang Saint-Malo\, Trois-Rivières\, Québec
END:VEVENT
END:VCALENDAR