BEGIN:VCALENDAR
VERSION:2.0
PRODID:-//Secteur Nicolet (04-C) - ECPv5.14.0.4//NONSGML v1.0//EN
CALSCALE:GREGORIAN
METHOD:PUBLISH
X-WR-CALNAME:Secteur Nicolet (04-C)
X-ORIGINAL-URL:https://nicolet.areq.lacsq.org
X-WR-CALDESC:évènements pour Secteur Nicolet (04-C)
BEGIN:VTIMEZONE
TZID:America/New_York
BEGIN:DAYLIGHT
TZOFFSETFROM:-0500
TZOFFSETTO:-0400
TZNAME:EDT
DTSTART:20200308T070000
END:DAYLIGHT
BEGIN:STANDARD
TZOFFSETFROM:-0400
TZOFFSETTO:-0500
TZNAME:EST
DTSTART:20201101T060000
END:STANDARD
END:VTIMEZONE
BEGIN:VEVENT
DTSTART;TZID=America/New_York:20200506T083000
DTEND;TZID=America/New_York:20200506T150000
DTSTAMP:20260423T053956
CREATED:20190908T123858Z
LAST-MODIFIED:20200329T130123Z
UID:2022-1588753800-1588777200@nicolet.areq.lacsq.org
SUMMARY:Assemblée régionale Coeur-et-Centre-du-Québec (ANNULÉ)
DESCRIPTION:Les membres de l’AREQ 04 Cœur-et-Centre-du-Québec sont\, par la présente\, convoqués à l’Assemblée générale régionale annuelle qui se tiendra dans le secteur des Bois-Francs. Ce sera l’occasion de tracer un bilan de ce qui s’est passé dans notre région au cours de la dernière année et de fraterniser avec les membres des autres secteurs en prenant connaissance des différents dossiers. Les membres de la Fondation Laure Gaudreau sont aussi convoqués\, par la présente\, à leur Assemblée générale qui se tiendra pendant cette journée de 9h15 à 9h45. Cette fondation est la nôtre! \n\nMonique Dionne\, présidente régionale \n\nHoraire de la journée : \n8h45 : Accueil \n9h15 : Assemblée générale régionale FLG \n8 h45 : Assemblée générale régionale de l’AREQ \n12h30 : Repas \n14h00 : Mot de la fin \nCoût de l’activité : \n10$ par membre et pour les non-membres le coût du repas 25$ \nRéserver au plus tard le jeudi\, 30 avril à  Micheline Gauthier-Brideau :  areq.bf@videotron.ca (tél. 819 357-7934) \nÀ noter :  Il y aura aussi une exposition d’œuvres de 8 artistes de la région soit une œuvre par secteur à l’occasion du Concours Les Artistes de chez nous Vous pourrez voter pour le coup de cœur de votre choix. Un prix lui sera remis. Cette œuvre sera acheminée à l’AREQ nationale lors du congrès de juin 2020. \n 
URL:https://nicolet.areq.lacsq.org/event/assemblee-generale-regionale-2/
LOCATION:Salle du Canton de Warwick\, 351 rue Saint-Louis\, Warwick\, Québec\, J0A 1M0\, Canada
END:VEVENT
END:VCALENDAR